Package: TOP Version: 1.8.0 Command: /Library/Frameworks/R.framework/Resources/bin/R CMD check --install=check:TOP.install-out.txt --library=/Library/Frameworks/R.framework/Resources/library --no-vignettes --timings TOP_1.8.0.tar.gz StartedAt: 2025-10-14 11:44:13 -0400 (Tue, 14 Oct 2025) EndedAt: 2025-10-14 11:51:57 -0400 (Tue, 14 Oct 2025) EllapsedTime: 464.1 seconds RetCode: 0 Status: OK CheckDir: TOP.Rcheck Warnings: 0