Package: TOP Version: 1.10.0 Command: /Library/Frameworks/R.framework/Resources/bin/R CMD INSTALL TOP StartedAt: 2025-11-10 15:13:30 -0500 (Mon, 10 Nov 2025) EndedAt: 2025-11-10 15:13:44 -0500 (Mon, 10 Nov 2025) EllapsedTime: 13.6 seconds RetCode: 0 Status: OK