Package: TMixClust Version: 1.32.0 Command: /home/biocbuild/bbs-3.22-bioc/R/bin/R CMD check --install=check:TMixClust.install-out.txt --library=/home/biocbuild/bbs-3.22-bioc/R/site-library --timings TMixClust_1.32.0.tar.gz StartedAt: 2025-11-07 04:55:54 -0500 (Fri, 07 Nov 2025) EndedAt: 2025-11-07 04:57:24 -0500 (Fri, 07 Nov 2025) EllapsedTime: 90.1 seconds RetCode: 0 Status: OK CheckDir: TMixClust.Rcheck Warnings: 0