Package: TMixClust Version: 1.32.0 Command: /Library/Frameworks/R.framework/Resources/bin/R CMD build --keep-empty-dirs --no-resave-data TMixClust StartedAt: 2025-11-06 18:00:02 -0500 (Thu, 06 Nov 2025) EndedAt: 2025-11-06 18:00:18 -0500 (Thu, 06 Nov 2025) EllapsedTime: 16.2 seconds RetCode: 0 Status: OK PackageFile: TMixClust_1.32.0.tar.gz PackageFileSize: 508.9 KiB