Package: TMixClust Version: 1.32.0 Command: rm -rf TMixClust.buildbin-libdir && mkdir TMixClust.buildbin-libdir && /Users/biocbuild/BBS/utils/build-universal.sh TMixClust_1.32.0.tar.gz /Library/Frameworks/R.framework/Resources/bin/R TMixClust.buildbin-libdir StartedAt: 2025-11-06 23:24:48 -0500 (Thu, 06 Nov 2025) EndedAt: 2025-11-06 23:24:51 -0500 (Thu, 06 Nov 2025) EllapsedTime: 3.1 seconds RetCode: 0 Status: OK PackageFile: TMixClust_1.32.0.tgz PackageFileSize: 744.3 KiB