Package: TMixClust Version: 1.32.0 Maintainer: Monica Golumbeanu MaintainerEmail: golumbeanu.monica at gmail.com git_url: https://git.bioconductor.org/packages/TMixClust git_branch: RELEASE_3_22 git_last_commit: b2d1cbb git_last_commit_date: 2025-10-29 10:40:16 -0500 (Wed, 29 Oct 2025)