Package: TMSig Version: 1.2.0 Command: rm -rf TMSig.buildbin-libdir && mkdir TMSig.buildbin-libdir && /Users/biocbuild/BBS/utils/build-universal.sh TMSig_1.2.0.tar.gz /Library/Frameworks/R.framework/Resources/bin/R TMSig.buildbin-libdir StartedAt: 2025-10-14 14:58:20 -0400 (Tue, 14 Oct 2025) EndedAt: 2025-10-14 14:59:11 -0400 (Tue, 14 Oct 2025) EllapsedTime: 51.1 seconds RetCode: 0 Status: OK PackageFile: TMSig_1.2.0.tgz PackageFileSize: 3.47 MiB