Package: TIN Version: 1.42.0 Command: /home/biocbuild/R/R/bin/R CMD check --install=check:TIN.install-out.txt --library=/home/biocbuild/R/R/site-library --no-vignettes --timings TIN_1.42.0.tar.gz StartedAt: 2025-11-18 16:02:00 -0000 (Tue, 18 Nov 2025) EndedAt: 2025-11-18 16:06:17 -0000 (Tue, 18 Nov 2025) EllapsedTime: 256.3 seconds RetCode: 0 Status: OK CheckDir: TIN.Rcheck Warnings: 0