Package: TIN Version: 1.42.0 Command: /home/biocbuild/R/R/bin/R CMD build --keep-empty-dirs --no-resave-data TIN StartedAt: 2025-11-21 06:31:17 -0000 (Fri, 21 Nov 2025) EndedAt: 2025-11-21 06:32:36 -0000 (Fri, 21 Nov 2025) EllapsedTime: 79.0 seconds RetCode: 0 Status: OK PackageFile: TIN_1.42.0.tar.gz PackageFileSize: 4.589 MiB