Package: TIN Version: 1.42.0 Command: /Library/Frameworks/R.framework/Resources/bin/R CMD build --keep-empty-dirs --no-resave-data TIN StartedAt: 2025-11-10 18:00:36 -0500 (Mon, 10 Nov 2025) EndedAt: 2025-11-10 18:01:00 -0500 (Mon, 10 Nov 2025) EllapsedTime: 24.2 seconds RetCode: 0 Status: OK PackageFile: TIN_1.42.0.tar.gz PackageFileSize: 4.594 MiB