Package: TIN Version: 1.42.0 Command: rm -rf TIN.buildbin-libdir && mkdir TIN.buildbin-libdir && /Users/biocbuild/BBS/utils/build-universal.sh TIN_1.42.0.tar.gz /Library/Frameworks/R.framework/Resources/bin/R TIN.buildbin-libdir StartedAt: 2025-11-10 23:39:44 -0500 (Mon, 10 Nov 2025) EndedAt: 2025-11-10 23:39:54 -0500 (Mon, 10 Nov 2025) EllapsedTime: 9.3 seconds RetCode: 0 Status: OK PackageFile: TIN_1.42.0.tgz PackageFileSize: 4.57 MiB