Package: TFutils Version: 1.30.0 Command: /home/biocbuild/R/R/bin/R CMD INSTALL TFutils StartedAt: 2025-11-17 22:05:18 -0000 (Mon, 17 Nov 2025) EndedAt: 2025-11-17 22:06:31 -0000 (Mon, 17 Nov 2025) EllapsedTime: 72.3 seconds RetCode: 0 Status: OK