Package: TFutils Version: 1.30.0 Command: /home/biocbuild/R/R/bin/R CMD check --install=check:TFutils.install-out.txt --library=/home/biocbuild/R/R/site-library --no-vignettes --timings TFutils_1.30.0.tar.gz StartedAt: 2025-11-18 15:58:38 -0000 (Tue, 18 Nov 2025) EndedAt: 2025-11-18 16:07:10 -0000 (Tue, 18 Nov 2025) EllapsedTime: 511.6 seconds RetCode: 0 Status: OK CheckDir: TFutils.Rcheck Warnings: 0