Package: TFutils Version: 1.30.0 Command: /home/biocbuild/R/R/bin/R CMD build --keep-empty-dirs --no-resave-data TFutils StartedAt: 2025-11-18 05:44:52 -0000 (Tue, 18 Nov 2025) EndedAt: 2025-11-18 05:48:58 -0000 (Tue, 18 Nov 2025) EllapsedTime: 246.1 seconds RetCode: 0 Status: OK PackageFile: TFutils_1.30.0.tar.gz PackageFileSize: 5.826 MiB