Package: TFEA.ChIP Version: 1.28.0 Command: /home/biocbuild/bbs-3.21-bioc/R/bin/R CMD check --install=check:TFEA.ChIP.install-out.txt --library=/home/biocbuild/bbs-3.21-bioc/R/site-library --timings TFEA.ChIP_1.28.0.tar.gz StartedAt: 2025-10-16 04:21:22 -0400 (Thu, 16 Oct 2025) EndedAt: 2025-10-16 04:28:16 -0400 (Thu, 16 Oct 2025) EllapsedTime: 414.5 seconds RetCode: 0 Status: OK CheckDir: TFEA.ChIP.Rcheck Warnings: 0