Package: TFBSTools Version: 1.46.0 Command: chmod a+r TFBSTools -R && E:\biocbuild\bbs-3.21-bioc\R\bin\R.exe CMD build --keep-empty-dirs --no-resave-data TFBSTools StartedAt: 2025-08-14 22:42:02 -0400 (Thu, 14 Aug 2025) EndedAt: 2025-08-14 22:44:01 -0400 (Thu, 14 Aug 2025) EllapsedTime: 119.3 seconds RetCode: 0 Status: OK PackageFile: TFBSTools_1.46.0.tar.gz PackageFileSize: 547.2 KiB