Package: TFBSTools Version: 1.46.0 Command: /home/biocbuild/bbs-3.21-bioc/R/bin/R CMD INSTALL TFBSTools StartedAt: 2025-10-15 15:48:43 -0400 (Wed, 15 Oct 2025) EndedAt: 2025-10-15 15:49:27 -0400 (Wed, 15 Oct 2025) EllapsedTime: 43.8 seconds RetCode: 0 Status: OK