Package: TFARM Version: 1.31.0 Command: /home/biocbuild/R/R/bin/R CMD build --keep-empty-dirs --no-resave-data TFARM StartedAt: 2025-10-21 03:41:44 -0000 (Tue, 21 Oct 2025) EndedAt: 2025-10-21 03:43:56 -0000 (Tue, 21 Oct 2025) EllapsedTime: 132.0 seconds RetCode: 0 Status: OK PackageFile: TFARM_1.31.0.tar.gz PackageFileSize: 451.3 KiB