Package: TFARM Version: 1.31.0 Command: rm -rf TFARM.buildbin-libdir && mkdir TFARM.buildbin-libdir && F:\biocbuild\bbs-3.22-bioc\R\bin\R.exe CMD INSTALL --build --library=TFARM.buildbin-libdir TFARM_1.31.0.tar.gz StartedAt: 2025-08-15 11:29:20 -0400 (Fri, 15 Aug 2025) EndedAt: 2025-08-15 11:29:44 -0400 (Fri, 15 Aug 2025) EllapsedTime: 23.9 seconds RetCode: 0 Status: OK PackageFile: TFARM_1.31.0.zip PackageFileSize: 538.3 KiB