Package: TEQC Version: 4.32.0 Command: /Library/Frameworks/R.framework/Resources/bin/R CMD INSTALL TEQC StartedAt: 2025-11-06 15:10:53 -0500 (Thu, 06 Nov 2025) EndedAt: 2025-11-06 15:10:59 -0500 (Thu, 06 Nov 2025) EllapsedTime: 5.7 seconds RetCode: 0 Status: OK