Package: TEQC Version: 4.32.0 Command: /Library/Frameworks/R.framework/Resources/bin/R CMD check --install=check:TEQC.install-out.txt --library=/Library/Frameworks/R.framework/Resources/library --no-vignettes --timings TEQC_4.32.0.tar.gz StartedAt: 2025-11-06 22:30:07 -0500 (Thu, 06 Nov 2025) EndedAt: 2025-11-06 22:30:49 -0500 (Thu, 06 Nov 2025) EllapsedTime: 41.5 seconds RetCode: 0 Status: WARNINGS CheckDir: TEQC.Rcheck Warnings: 1