Package: TEQC Version: 4.32.0 Command: rm -rf TEQC.buildbin-libdir && mkdir TEQC.buildbin-libdir && /Users/biocbuild/BBS/utils/build-universal.sh TEQC_4.32.0.tar.gz /Library/Frameworks/R.framework/Resources/bin/R TEQC.buildbin-libdir StartedAt: 2025-11-06 23:24:20 -0500 (Thu, 06 Nov 2025) EndedAt: 2025-11-06 23:24:26 -0500 (Thu, 06 Nov 2025) EllapsedTime: 6.1 seconds RetCode: 0 Status: OK PackageFile: TEQC_4.32.0.tgz PackageFileSize: 797.1 KiB