Package: TENxIO Version: 1.11.5 Command: /home/biocbuild/R/R/bin/R CMD build --keep-empty-dirs --no-resave-data TENxIO StartedAt: 2025-10-21 03:40:46 -0000 (Tue, 21 Oct 2025) EndedAt: 2025-10-21 03:41:44 -0000 (Tue, 21 Oct 2025) EllapsedTime: 58.0 seconds RetCode: 0 Status: OK PackageFile: TENxIO_1.11.5.tar.gz PackageFileSize: 283 KiB