Package: TENxIO Version: 1.12.0 Command: /home/biocbuild/bbs-3.22-bioc/R/bin/R CMD check --install=check:TENxIO.install-out.txt --library=/home/biocbuild/bbs-3.22-bioc/R/site-library --timings TENxIO_1.12.0.tar.gz StartedAt: 2025-11-07 04:48:31 -0500 (Fri, 07 Nov 2025) EndedAt: 2025-11-07 04:51:48 -0500 (Fri, 07 Nov 2025) EllapsedTime: 196.2 seconds RetCode: 0 Status: OK CheckDir: TENxIO.Rcheck Warnings: 0