Package: TENxIO Version: 1.12.0 Command: /home/biocbuild/bbs-3.22-bioc/R/bin/R CMD build --keep-empty-dirs --no-resave-data --md5 TENxIO StartedAt: 2025-11-06 20:28:57 -0500 (Thu, 06 Nov 2025) EndedAt: 2025-11-06 20:29:39 -0500 (Thu, 06 Nov 2025) EllapsedTime: 42.0 seconds RetCode: 0 Status: OK PackageFile: TENxIO_1.12.0.tar.gz PackageFileSize: 258.8 KiB