Package: TENET Version: 1.2.0 Command: /Library/Frameworks/R.framework/Resources/bin/R CMD INSTALL TENET StartedAt: 2025-11-02 15:19:26 -0500 (Sun, 02 Nov 2025) EndedAt: 2025-11-02 15:19:41 -0500 (Sun, 02 Nov 2025) EllapsedTime: 15.2 seconds RetCode: 0 Status: OK