Package: TENET Version: 1.2.0 Command: /Library/Frameworks/R.framework/Resources/bin/R CMD check --install=check:TENET.install-out.txt --library=/Library/Frameworks/R.framework/Resources/library --no-vignettes --timings TENET_1.2.0.tar.gz StartedAt: 2025-11-04 22:28:58 -0500 (Tue, 04 Nov 2025) EndedAt: 2025-11-04 22:30:29 -0500 (Tue, 04 Nov 2025) EllapsedTime: 90.1 seconds RetCode: 0 Status: OK CheckDir: TENET.Rcheck Warnings: 0