Package: TENET Version: 1.2.0 Command: /Library/Frameworks/R.framework/Resources/bin/R CMD build --keep-empty-dirs --no-resave-data TENET StartedAt: 2025-10-31 18:01:39 -0400 (Fri, 31 Oct 2025) EndedAt: 2025-10-31 18:09:59 -0400 (Fri, 31 Oct 2025) EllapsedTime: 499.6 seconds RetCode: 0 Status: OK PackageFile: TENET_1.2.0.tar.gz PackageFileSize: 2.108 MiB