Package: TENET Version: 1.2.0 Command: rm -rf TENET.buildbin-libdir && mkdir TENET.buildbin-libdir && /Users/biocbuild/BBS/utils/build-universal.sh TENET_1.2.0.tar.gz /Library/Frameworks/R.framework/Resources/bin/R TENET.buildbin-libdir StartedAt: 2025-10-31 23:26:12 -0400 (Fri, 31 Oct 2025) EndedAt: 2025-10-31 23:26:28 -0400 (Fri, 31 Oct 2025) EllapsedTime: 16.3 seconds RetCode: 0 Status: OK PackageFile: TENET_1.2.0.tgz PackageFileSize: 2.549 MiB