Package: TEKRABber Version: 1.12.0 Command: chmod a+r TEKRABber -R && E:\biocbuild\bbs-3.21-bioc\R\bin\R.exe CMD build --keep-empty-dirs --no-resave-data TEKRABber StartedAt: 2025-08-14 22:40:38 -0400 (Thu, 14 Aug 2025) EndedAt: 2025-08-14 22:42:59 -0400 (Thu, 14 Aug 2025) EllapsedTime: 140.8 seconds RetCode: 0 Status: OK PackageFile: TEKRABber_1.12.0.tar.gz PackageFileSize: 3.44 MiB