Package: TEKRABber Version: 1.12.0 Command: /home/biocbuild/bbs-3.21-bioc/R/bin/R CMD INSTALL TEKRABber StartedAt: 2025-09-28 15:45:21 -0400 (Sun, 28 Sep 2025) EndedAt: 2025-09-28 15:46:01 -0400 (Sun, 28 Sep 2025) EllapsedTime: 39.7 seconds RetCode: 0 Status: OK