Package: TEKRABber Version: 1.12.0 Command: /Library/Frameworks/R.framework/Resources/bin/R CMD INSTALL TEKRABber StartedAt: 2025-10-13 15:49:46 -0400 (Mon, 13 Oct 2025) EndedAt: 2025-10-13 15:51:07 -0400 (Mon, 13 Oct 2025) EllapsedTime: 80.8 seconds RetCode: 0 Status: OK