Package: TEKRABber Version: 1.12.0 Command: /Library/Frameworks/R.framework/Resources/bin/R CMD build --keep-empty-dirs --no-resave-data TEKRABber StartedAt: 2025-10-13 23:11:39 -0400 (Mon, 13 Oct 2025) EndedAt: 2025-10-13 23:16:20 -0400 (Mon, 13 Oct 2025) EllapsedTime: 280.9 seconds RetCode: 0 Status: OK PackageFile: TEKRABber_1.12.0.tar.gz PackageFileSize: 3.44 MiB