Package: TEKRABber Version: 1.12.0 Command: /Library/Frameworks/R.framework/Resources/bin/R CMD INSTALL TEKRABber StartedAt: 2025-10-13 16:47:45 -0400 (Mon, 13 Oct 2025) EndedAt: 2025-10-13 16:48:29 -0400 (Mon, 13 Oct 2025) EllapsedTime: 44.2 seconds RetCode: 0 Status: OK