Package: TEKRABber Version: 1.12.0 Command: /Library/Frameworks/R.framework/Resources/bin/R CMD check --install=check:TEKRABber.install-out.txt --library=/Library/Frameworks/R.framework/Resources/library --no-vignettes --timings TEKRABber_1.12.0.tar.gz StartedAt: 2025-10-15 15:06:02 -0400 (Wed, 15 Oct 2025) EndedAt: 2025-10-15 15:22:26 -0400 (Wed, 15 Oct 2025) EllapsedTime: 983.5 seconds RetCode: 0 Status: OK CheckDir: TEKRABber.Rcheck Warnings: 0