Package: TEKRABber Version: 1.12.0 Command: rm -rf TEKRABber.buildbin-libdir && mkdir TEKRABber.buildbin-libdir && /Users/biocbuild/BBS/utils/build-universal.sh TEKRABber_1.12.0.tar.gz /Library/Frameworks/R.framework/Resources/bin/R TEKRABber.buildbin-libdir StartedAt: 2025-10-15 20:48:54 -0400 (Wed, 15 Oct 2025) EndedAt: 2025-10-15 20:49:44 -0400 (Wed, 15 Oct 2025) EllapsedTime: 49.9 seconds RetCode: 0 Status: OK PackageFile: TEKRABber_1.12.0.tgz PackageFileSize: 3.387 MiB