Package: SynExtend Version: 1.22.0 Command: /home/biocbuild/bbs-3.22-bioc/R/bin/R CMD INSTALL SynExtend StartedAt: 2025-11-09 15:33:14 -0500 (Sun, 09 Nov 2025) EndedAt: 2025-11-09 15:33:41 -0500 (Sun, 09 Nov 2025) EllapsedTime: 27.0 seconds RetCode: 0 Status: OK