Package: SynExtend Version: 1.22.0 Command: /home/biocbuild/bbs-3.22-bioc/R/bin/R CMD build --keep-empty-dirs --no-resave-data --md5 SynExtend StartedAt: 2025-11-09 20:36:03 -0500 (Sun, 09 Nov 2025) EndedAt: 2025-11-09 20:37:08 -0500 (Sun, 09 Nov 2025) EllapsedTime: 65.1 seconds RetCode: 0 Status: OK PackageFile: SynExtend_1.22.0.tar.gz PackageFileSize: 3.134 MiB