Package: SwathXtend Version: 2.30.0 Command: rm -rf SwathXtend.buildbin-libdir && mkdir SwathXtend.buildbin-libdir && /Users/biocbuild/BBS/utils/build-universal.sh SwathXtend_2.30.0.tar.gz /Library/Frameworks/R.framework/Resources/bin/R SwathXtend.buildbin-libdir StartedAt: 2025-10-14 14:55:34 -0400 (Tue, 14 Oct 2025) EndedAt: 2025-10-14 14:57:37 -0400 (Tue, 14 Oct 2025) EllapsedTime: 123.1 seconds RetCode: 0 Status: OK PackageFile: SwathXtend_2.30.0.tgz PackageFileSize: 346.6 MiB