Package: SurfR Version: 1.4.1 Command: rm -rf SurfR.buildbin-libdir && mkdir SurfR.buildbin-libdir && E:\biocbuild\bbs-3.21-bioc\R\bin\R.exe CMD INSTALL --build --library=SurfR.buildbin-libdir SurfR_1.4.1.tar.gz StartedAt: 2025-08-15 10:25:51 -0400 (Fri, 15 Aug 2025) EndedAt: 2025-08-15 10:26:42 -0400 (Fri, 15 Aug 2025) EllapsedTime: 51.2 seconds RetCode: 0 Status: OK PackageFile: SurfR_1.4.1.zip PackageFileSize: 450.7 KiB