Package: SuperCellCyto Version: 1.0.0 Command: /home/biocbuild/bbs-3.22-bioc/R/bin/R CMD build --keep-empty-dirs --no-resave-data --md5 SuperCellCyto StartedAt: 2025-11-09 20:33:52 -0500 (Sun, 09 Nov 2025) EndedAt: 2025-11-09 20:35:38 -0500 (Sun, 09 Nov 2025) EllapsedTime: 106.1 seconds RetCode: 0 Status: OK PackageFile: SuperCellCyto_1.0.0.tar.gz PackageFileSize: 4.383 MiB