Package: SuperCellCyto Version: 1.0.0 Command: /Library/Frameworks/R.framework/Resources/bin/R CMD INSTALL SuperCellCyto StartedAt: 2025-11-09 15:06:24 -0500 (Sun, 09 Nov 2025) EndedAt: 2025-11-09 15:06:30 -0500 (Sun, 09 Nov 2025) EllapsedTime: 6.1 seconds RetCode: 0 Status: OK