Package: Summix Version: 2.16.0 Command: /home/biocbuild/bbs-3.22-bioc/R/bin/R CMD INSTALL Summix StartedAt: 2025-11-06 15:08:07 -0500 (Thu, 06 Nov 2025) EndedAt: 2025-11-06 15:08:16 -0500 (Thu, 06 Nov 2025) EllapsedTime: 9.0 seconds RetCode: 0 Status: OK