Package: Summix Version: 2.16.0 Command: /home/biocbuild/bbs-3.22-bioc/R/bin/R CMD check --install=check:Summix.install-out.txt --library=/home/biocbuild/bbs-3.22-bioc/R/site-library --timings Summix_2.16.0.tar.gz StartedAt: 2025-11-07 04:40:44 -0500 (Fri, 07 Nov 2025) EndedAt: 2025-11-07 04:41:55 -0500 (Fri, 07 Nov 2025) EllapsedTime: 71.1 seconds RetCode: 0 Status: OK CheckDir: Summix.Rcheck Warnings: 0