Package: Summix Version: 2.16.0 Command: /Library/Frameworks/R.framework/Resources/bin/R CMD INSTALL Summix StartedAt: 2025-11-10 15:04:57 -0500 (Mon, 10 Nov 2025) EndedAt: 2025-11-10 15:05:03 -0500 (Mon, 10 Nov 2025) EllapsedTime: 5.9 seconds RetCode: 0 Status: OK