Package: Summix Version: 2.16.0 Command: /Library/Frameworks/R.framework/Resources/bin/R CMD build --keep-empty-dirs --no-resave-data Summix StartedAt: 2025-11-10 17:55:43 -0500 (Mon, 10 Nov 2025) EndedAt: 2025-11-10 17:55:49 -0500 (Mon, 10 Nov 2025) EllapsedTime: 6.1 seconds RetCode: 0 Status: OK PackageFile: Summix_2.16.0.tar.gz PackageFileSize: 1.254 MiB