Package: Summix Version: 2.16.0 Command: rm -rf Summix.buildbin-libdir && mkdir Summix.buildbin-libdir && /Users/biocbuild/BBS/utils/build-universal.sh Summix_2.16.0.tar.gz /Library/Frameworks/R.framework/Resources/bin/R Summix.buildbin-libdir StartedAt: 2025-11-10 23:38:50 -0500 (Mon, 10 Nov 2025) EndedAt: 2025-11-10 23:38:55 -0500 (Mon, 10 Nov 2025) EllapsedTime: 5.1 seconds RetCode: 0 Status: OK PackageFile: Summix_2.16.0.tgz PackageFileSize: 355.2 KiB