Package: SubCellBarCode Version: 1.26.0 Command: /Library/Frameworks/R.framework/Resources/bin/R CMD INSTALL SubCellBarCode StartedAt: 2025-11-03 15:29:09 -0500 (Mon, 03 Nov 2025) EndedAt: 2025-11-03 15:29:41 -0500 (Mon, 03 Nov 2025) EllapsedTime: 32.3 seconds RetCode: 0 Status: OK