Package: SubCellBarCode Version: 1.26.0 Command: /Library/Frameworks/R.framework/Resources/bin/R CMD check --install=check:SubCellBarCode.install-out.txt --library=/Library/Frameworks/R.framework/Resources/library --no-vignettes --timings SubCellBarCode_1.26.0.tar.gz StartedAt: 2025-11-04 00:40:43 -0500 (Tue, 04 Nov 2025) EndedAt: 2025-11-04 00:44:50 -0500 (Tue, 04 Nov 2025) EllapsedTime: 247.3 seconds RetCode: 0 Status: WARNINGS CheckDir: SubCellBarCode.Rcheck Warnings: 1