Package: SubCellBarCode Version: 1.26.0 Command: /Library/Frameworks/R.framework/Resources/bin/R CMD build --keep-empty-dirs --no-resave-data SubCellBarCode StartedAt: 2025-11-03 19:00:56 -0500 (Mon, 03 Nov 2025) EndedAt: 2025-11-03 19:05:00 -0500 (Mon, 03 Nov 2025) EllapsedTime: 243.2 seconds RetCode: 0 Status: OK PackageFile: SubCellBarCode_1.26.0.tar.gz PackageFileSize: 2.344 MiB